BEGIN:VCALENDAR
VERSION:2.0
PRODID:-//PUK - ECPv6.15.20//NONSGML v1.0//EN
CALSCALE:GREGORIAN
METHOD:PUBLISH
X-ORIGINAL-URL:https://unser-klosterneuburg.at
X-WR-CALDESC:Veranstaltungen für PUK
REFRESH-INTERVAL;VALUE=DURATION:PT1H
X-Robots-Tag:noindex
X-PUBLISHED-TTL:PT1H
BEGIN:VTIMEZONE
TZID:Europe/Vienna
BEGIN:DAYLIGHT
TZOFFSETFROM:+0100
TZOFFSETTO:+0200
TZNAME:CEST
DTSTART:20230326T010000
END:DAYLIGHT
BEGIN:STANDARD
TZOFFSETFROM:+0200
TZOFFSETTO:+0100
TZNAME:CET
DTSTART:20231029T010000
END:STANDARD
BEGIN:DAYLIGHT
TZOFFSETFROM:+0100
TZOFFSETTO:+0200
TZNAME:CEST
DTSTART:20240331T010000
END:DAYLIGHT
BEGIN:STANDARD
TZOFFSETFROM:+0200
TZOFFSETTO:+0100
TZNAME:CET
DTSTART:20241027T010000
END:STANDARD
BEGIN:DAYLIGHT
TZOFFSETFROM:+0100
TZOFFSETTO:+0200
TZNAME:CEST
DTSTART:20250330T010000
END:DAYLIGHT
BEGIN:STANDARD
TZOFFSETFROM:+0200
TZOFFSETTO:+0100
TZNAME:CET
DTSTART:20251026T010000
END:STANDARD
END:VTIMEZONE
BEGIN:VEVENT
DTSTART;TZID=Europe/Vienna:20240624T183000
DTEND;TZID=Europe/Vienna:20240624T210000
DTSTAMP:20260424T173421
CREATED:20240430T183837Z
LAST-MODIFIED:20240503T110855Z
UID:9773-1719253800-1719262800@unser-klosterneuburg.at
SUMMARY:PUK-Jour Fixe Montag\, 24. Juni 2024 um 18:30 im SHIFT
DESCRIPTION:Wir laden zur Diskussion akuter Punkte der Gemeinderats-Tagesordnung\, der Erarbeitung von Strategien und Anträgen ein und geben Updates zu übergeordneten Projekten. Wir freuen uns auf Euch! \nBeginn 18:30 Uhr im SHIFT\, Rathausplatz 8 in Klosterneuburg.  \nBitte tragt Euch für genaue Informationen und Terminankündigungen in unseren Newsletter ein. Dann bekommt Ihr alle Informationen zeitgerecht. \nGanz unten rechts beim Impressum kannst Du den Newsletter bestellen!
URL:https://unser-klosterneuburg.at/event/puk-jour-fixe-montag-24-juni-2024-um-1830-im-shift/
LOCATION:Niederösterreich
ATTACH;FMTTYPE=image/jpeg:https://unser-klosterneuburg.at/wp-content/uploads/2024/04/Ankuendigung2.jpg
END:VEVENT
END:VCALENDAR