BEGIN:VCALENDAR
VERSION:2.0
PRODID:-//PUK - ECPv6.15.20//NONSGML v1.0//EN
CALSCALE:GREGORIAN
METHOD:PUBLISH
X-ORIGINAL-URL:https://unser-klosterneuburg.at
X-WR-CALDESC:Veranstaltungen für PUK
REFRESH-INTERVAL;VALUE=DURATION:PT1H
X-Robots-Tag:noindex
X-PUBLISHED-TTL:PT1H
BEGIN:VTIMEZONE
TZID:Europe/Vienna
BEGIN:DAYLIGHT
TZOFFSETFROM:+0100
TZOFFSETTO:+0200
TZNAME:CEST
DTSTART:20230326T010000
END:DAYLIGHT
BEGIN:STANDARD
TZOFFSETFROM:+0200
TZOFFSETTO:+0100
TZNAME:CET
DTSTART:20231029T010000
END:STANDARD
BEGIN:DAYLIGHT
TZOFFSETFROM:+0100
TZOFFSETTO:+0200
TZNAME:CEST
DTSTART:20240331T010000
END:DAYLIGHT
BEGIN:STANDARD
TZOFFSETFROM:+0200
TZOFFSETTO:+0100
TZNAME:CET
DTSTART:20241027T010000
END:STANDARD
BEGIN:DAYLIGHT
TZOFFSETFROM:+0100
TZOFFSETTO:+0200
TZNAME:CEST
DTSTART:20250330T010000
END:DAYLIGHT
BEGIN:STANDARD
TZOFFSETFROM:+0200
TZOFFSETTO:+0100
TZNAME:CET
DTSTART:20251026T010000
END:STANDARD
END:VTIMEZONE
BEGIN:VEVENT
DTSTART;TZID=Europe/Vienna:20240806T180000
DTEND;TZID=Europe/Vienna:20240806T223000
DTSTAMP:20260424T143456
CREATED:20240701T130223Z
LAST-MODIFIED:20240731T071236Z
UID:10067-1722967200-1722983400@unser-klosterneuburg.at
SUMMARY:Safe the date: Dienstag 6.8.2024\, 18 Uhr PUK Sommerspaziergang mit Einkehrschwung!
DESCRIPTION:Die PUK (Plattform unser Klosterneuburg) organisiert wie jedes Jahr im Sommer einen gemeinsamen\, entspannten Spaziergang und Abend. In lockerer Atmosphäre reden wir über aktuelle politische Themen und den nahenden Gemeinderatswahlkampf 2025. Wir treffen uns am 6. August 2024 um 18 Uhr beim Kunstwerk „Die verworfene Idee“ (Papierknödel) bei der ISTA und spazieren bis zum Waldhof mit einem kleinen Zwischenstopp bei einem Bauprojekt (ca. 30 Minuten Fußmarsch). Vielleicht habt Ihr auch den einen oder anderen Gedanken zur PUK Mitarbeit\, zur Mitglieder:innen Liste\, zu schlaue Wahlsprüchen usw. \nwww.der-waldhof.at
URL:https://unser-klosterneuburg.at/event/safe-the-date-dienstag-6-8-2024-puk-sommerspaziergang-auf-die-redlinger-huette-2/
LOCATION:Niederösterreich
END:VEVENT
END:VCALENDAR