BEGIN:VCALENDAR
VERSION:2.0
PRODID:-//PUK - ECPv6.15.20//NONSGML v1.0//EN
CALSCALE:GREGORIAN
METHOD:PUBLISH
X-ORIGINAL-URL:https://unser-klosterneuburg.at
X-WR-CALDESC:Veranstaltungen für PUK
REFRESH-INTERVAL;VALUE=DURATION:PT1H
X-Robots-Tag:noindex
X-PUBLISHED-TTL:PT1H
BEGIN:VTIMEZONE
TZID:Europe/Vienna
BEGIN:DAYLIGHT
TZOFFSETFROM:+0100
TZOFFSETTO:+0200
TZNAME:CEST
DTSTART:20230326T010000
END:DAYLIGHT
BEGIN:STANDARD
TZOFFSETFROM:+0200
TZOFFSETTO:+0100
TZNAME:CET
DTSTART:20231029T010000
END:STANDARD
BEGIN:DAYLIGHT
TZOFFSETFROM:+0100
TZOFFSETTO:+0200
TZNAME:CEST
DTSTART:20240331T010000
END:DAYLIGHT
BEGIN:STANDARD
TZOFFSETFROM:+0200
TZOFFSETTO:+0100
TZNAME:CET
DTSTART:20241027T010000
END:STANDARD
BEGIN:DAYLIGHT
TZOFFSETFROM:+0100
TZOFFSETTO:+0200
TZNAME:CEST
DTSTART:20250330T010000
END:DAYLIGHT
BEGIN:STANDARD
TZOFFSETFROM:+0200
TZOFFSETTO:+0100
TZNAME:CET
DTSTART:20251026T010000
END:STANDARD
END:VTIMEZONE
BEGIN:VEVENT
DTSTART;TZID=Europe/Vienna:20240924T173000
DTEND;TZID=Europe/Vienna:20240924T233000
DTSTAMP:20260423T032322
CREATED:20240627T060523Z
LAST-MODIFIED:20240924T060513Z
UID:10050-1727199000-1727220600@unser-klosterneuburg.at
SUMMARY:35. Gemeinderatssitzung Dienstag !! 24.9.2024\, 17:30 Uhr Rathaus gr. Sitzungssaal
DESCRIPTION:Verschoben wegen der Nationalratswahl auf Dienstag!!! \nDie Sitzung ist öffentlich zugängig und findet im Rathaus 2.Stock großer Sitzungssaal statt. \nFür eine Zuschaltung bitte den Gemeindestream verwenden: Youtube/Rathausklosterneuburg
URL:https://unser-klosterneuburg.at/event/35-gemeinderatssitzung-donnerstag-26-9-2024-1730uhr-rathaus-gr-sitzungssaal/
LOCATION:Rathaus\, Leopoldstraße 1\, Klosterneuburg\, Niederösterreich\, 3400\, Österreich
END:VEVENT
END:VCALENDAR