BEGIN:VCALENDAR
VERSION:2.0
PRODID:-//PUK - ECPv6.15.20//NONSGML v1.0//EN
CALSCALE:GREGORIAN
METHOD:PUBLISH
X-WR-CALNAME:PUK
X-ORIGINAL-URL:https://unser-klosterneuburg.at
X-WR-CALDESC:Veranstaltungen für PUK
REFRESH-INTERVAL;VALUE=DURATION:PT1H
X-Robots-Tag:noindex
X-PUBLISHED-TTL:PT1H
BEGIN:VTIMEZONE
TZID:Europe/Vienna
BEGIN:DAYLIGHT
TZOFFSETFROM:+0100
TZOFFSETTO:+0200
TZNAME:CEST
DTSTART:20230326T010000
END:DAYLIGHT
BEGIN:STANDARD
TZOFFSETFROM:+0200
TZOFFSETTO:+0100
TZNAME:CET
DTSTART:20231029T010000
END:STANDARD
BEGIN:DAYLIGHT
TZOFFSETFROM:+0100
TZOFFSETTO:+0200
TZNAME:CEST
DTSTART:20240331T010000
END:DAYLIGHT
BEGIN:STANDARD
TZOFFSETFROM:+0200
TZOFFSETTO:+0100
TZNAME:CET
DTSTART:20241027T010000
END:STANDARD
BEGIN:DAYLIGHT
TZOFFSETFROM:+0100
TZOFFSETTO:+0200
TZNAME:CEST
DTSTART:20250330T010000
END:DAYLIGHT
BEGIN:STANDARD
TZOFFSETFROM:+0200
TZOFFSETTO:+0100
TZNAME:CET
DTSTART:20251026T010000
END:STANDARD
END:VTIMEZONE
BEGIN:VEVENT
DTSTART;TZID=Europe/Vienna:20240925T170000
DTEND;TZID=Europe/Vienna:20240925T190000
DTSTAMP:20260423T015653
CREATED:20240627T055034Z
LAST-MODIFIED:20240701T113613Z
UID:10040-1727283600-1727290800@unser-klosterneuburg.at
SUMMARY:25.9.2024 PUK hört zu! Sprechstunde zu Anliegen der Mobilität mit dem Stadtrat Hehberger
DESCRIPTION:PUK hört zu! \nSprechstunde mit STR Hehberger zu Anliegen rund um die Mobilität in Klosterneuburg. \nIm SHIFT am Rathausplatz 8; 3400 Klosterneuburg von 17-19 Uhr \n0680 1111589 \n 
URL:https://unser-klosterneuburg.at/event/24-9-2024-puk-hoert-zu-sprechstunde-zu-anliegen-der-mobilitaet-mit-dem-stadtrat-hehberger/
LOCATION:SHIFT Klosterneuburg\, Rathausplatz 8\, Klosterneuburg\, Niederösterreich\, 3400
ORGANIZER;CN="PUK Plattform Unser Klosterneuburg":MAILTO:stefan.hehberger@aon.at
END:VEVENT
END:VCALENDAR