BEGIN:VCALENDAR
VERSION:2.0
PRODID:-//PUK - ECPv6.15.20//NONSGML v1.0//EN
CALSCALE:GREGORIAN
METHOD:PUBLISH
X-ORIGINAL-URL:https://unser-klosterneuburg.at
X-WR-CALDESC:Veranstaltungen für PUK
REFRESH-INTERVAL;VALUE=DURATION:PT1H
X-Robots-Tag:noindex
X-PUBLISHED-TTL:PT1H
BEGIN:VTIMEZONE
TZID:Europe/Vienna
BEGIN:DAYLIGHT
TZOFFSETFROM:+0100
TZOFFSETTO:+0200
TZNAME:CEST
DTSTART:20230326T010000
END:DAYLIGHT
BEGIN:STANDARD
TZOFFSETFROM:+0200
TZOFFSETTO:+0100
TZNAME:CET
DTSTART:20231029T010000
END:STANDARD
BEGIN:DAYLIGHT
TZOFFSETFROM:+0100
TZOFFSETTO:+0200
TZNAME:CEST
DTSTART:20240331T010000
END:DAYLIGHT
BEGIN:STANDARD
TZOFFSETFROM:+0200
TZOFFSETTO:+0100
TZNAME:CET
DTSTART:20241027T010000
END:STANDARD
BEGIN:DAYLIGHT
TZOFFSETFROM:+0100
TZOFFSETTO:+0200
TZNAME:CEST
DTSTART:20250330T010000
END:DAYLIGHT
BEGIN:STANDARD
TZOFFSETFROM:+0200
TZOFFSETTO:+0100
TZNAME:CET
DTSTART:20251026T010000
END:STANDARD
END:VTIMEZONE
BEGIN:VEVENT
DTSTART;TZID=Europe/Vienna:20240927T190000
DTEND;TZID=Europe/Vienna:20240927T210000
DTSTAMP:20260422T224500
CREATED:20240922T181237Z
LAST-MODIFIED:20240923T193755Z
UID:10232-1727463600-1727470800@unser-klosterneuburg.at
SUMMARY:Die Klima Monologe - Theaterstück von Michael Ruf am Freitag\, 27.9.2024 in Klosterneuburg
DESCRIPTION:Am 27. September findet die Österreich-Premiere des Theaterstückes „Die Klima-Monologe“ von Michael Ruf in Klosterneuburg statt. \nBeginn: 19 Uhr\nOrt: Robert Koch Festsaal des Gymnasium Klosterneuburg\, Buchberggasse 31\n3400 Klosterneuburg\nEintritt frei – Spenden erbeten
URL:https://unser-klosterneuburg.at/event/klimamonologe-theaterstueck-von-michael-ruf-am-kommenden-freitag-in-klosterneuburg/
LOCATION:Niederösterreich
END:VEVENT
END:VCALENDAR