BEGIN:VCALENDAR
VERSION:2.0
PRODID:-//PUK - ECPv6.15.20//NONSGML v1.0//EN
CALSCALE:GREGORIAN
METHOD:PUBLISH
X-WR-CALNAME:PUK
X-ORIGINAL-URL:https://unser-klosterneuburg.at
X-WR-CALDESC:Veranstaltungen für PUK
REFRESH-INTERVAL;VALUE=DURATION:PT1H
X-Robots-Tag:noindex
X-PUBLISHED-TTL:PT1H
BEGIN:VTIMEZONE
TZID:Europe/Vienna
BEGIN:DAYLIGHT
TZOFFSETFROM:+0100
TZOFFSETTO:+0200
TZNAME:CEST
DTSTART:20250330T010000
END:DAYLIGHT
BEGIN:STANDARD
TZOFFSETFROM:+0200
TZOFFSETTO:+0100
TZNAME:CET
DTSTART:20251026T010000
END:STANDARD
BEGIN:DAYLIGHT
TZOFFSETFROM:+0100
TZOFFSETTO:+0200
TZNAME:CEST
DTSTART:20260329T010000
END:DAYLIGHT
BEGIN:STANDARD
TZOFFSETFROM:+0200
TZOFFSETTO:+0100
TZNAME:CET
DTSTART:20261025T010000
END:STANDARD
BEGIN:DAYLIGHT
TZOFFSETFROM:+0100
TZOFFSETTO:+0200
TZNAME:CEST
DTSTART:20270328T010000
END:DAYLIGHT
BEGIN:STANDARD
TZOFFSETFROM:+0200
TZOFFSETTO:+0100
TZNAME:CET
DTSTART:20271031T010000
END:STANDARD
END:VTIMEZONE
BEGIN:VEVENT
DTSTART;TZID=Europe/Vienna:20260421T183000
DTEND;TZID=Europe/Vienna:20260421T220000
DTSTAMP:20260421T013242
CREATED:20260128T103158Z
LAST-MODIFIED:20260402T051820Z
UID:11812-1776796200-1776808800@unser-klosterneuburg.at
SUMMARY:SHIFT ahoj im Fokus: Die neue Informationsfreiheit\, Traum und Wirklichkeit
DESCRIPTION:Nach mehrjährigen Verhandlungen wurde die verfassungsgesetzliche Amtsverschwiegenheit am 1. September 2025 aufgehoben und eine allgemeine Informationsfreiheit eingeführt. Damit wurden sowohl eine proaktive Veröffentlichungspflicht als auch ein Grundrecht auf Zugang zu staatlichen Informationen geschaffen. So weit\, so gut. \nDoch hat damit tatsächlich eine neue Ära der Transparenz begonnen – oder wurde das Amtsgeheimnis nur neu verpackt? Erste Erfahrungen lassen Zweifel aufkommen: Ausnahmen\, Einschränkungen und praktische Hürden sorgen dafür\, dass der Zugang zu Informationen weiterhin schwieriger bleibt als erhofft. Die PUK nimmt das neue Informationsfreiheitsgesetz daher kritisch unter die Lupe – anhand konkreter Beispiele und eigener Erfahrungen. Wir diskutieren\, was sich für Bürgerinnen und Bürger wirklich verbessert hat\, wie die neuen Rechte wirksam genutzt werden können – und wo das Bemühen um Transparenz nach wie vor an Grenzen stößt oder von vornherein ins Leere läuft. \n—————————– \nBeim monatlichen SHIFT ahoj! öffnet die PUK die Tore weit für alle Aktivist:innen\, Sympathisant:innen und einfach Neugierigen\, die sich auch für 2026 vorgenommen haben\, gemeinsam über den Zustand von Stadt und Welt nachzudenken und zu sprechen. Raus aus den unsozialen Medien – rein ins SHIFT\, ins Gespräch und in die Begegnung mit echten Menschen. Wir mischen mit\, wenn es um die Zukunft unserer Stadt geht – wir schauen nach vorn! \nSHIFT ahoj!  findet jeden 3. Dienstag im Monat um 18:30 statt. Entweder gestaltet als offener Themenabend\, ganz frei und ohne fixe Agenda. Oder mit einem bestimmten Thema im Fokus – schaut regelmäßig auf unsere Webseite\, dort findet ihr jeweils die konkrete Ankündigung!
URL:https://unser-klosterneuburg.at/event/shift-ahoj-monatliches-puk-open-house-2/
LOCATION:SHIFT Klosterneuburg\, Rathausplatz 8\, Klosterneuburg\, Niederösterreich\, 3400
ATTACH;FMTTYPE=image/jpeg:https://unser-klosterneuburg.at/wp-content/uploads/2026/01/4262159-files-4440841-scaled.jpg
ORGANIZER;CN="PUK Plattform Unser Klosterneuburg":MAILTO:stefan.hehberger@aon.at
END:VEVENT
END:VCALENDAR