BEGIN:VCALENDAR
VERSION:2.0
PRODID:-//PUK - ECPv6.15.20//NONSGML v1.0//EN
CALSCALE:GREGORIAN
METHOD:PUBLISH
X-ORIGINAL-URL:https://unser-klosterneuburg.at
X-WR-CALDESC:Veranstaltungen für PUK
REFRESH-INTERVAL;VALUE=DURATION:PT1H
X-Robots-Tag:noindex
X-PUBLISHED-TTL:PT1H
BEGIN:VTIMEZONE
TZID:Europe/Vienna
BEGIN:DAYLIGHT
TZOFFSETFROM:+0100
TZOFFSETTO:+0200
TZNAME:CEST
DTSTART:20230326T010000
END:DAYLIGHT
BEGIN:STANDARD
TZOFFSETFROM:+0200
TZOFFSETTO:+0100
TZNAME:CET
DTSTART:20231029T010000
END:STANDARD
BEGIN:DAYLIGHT
TZOFFSETFROM:+0100
TZOFFSETTO:+0200
TZNAME:CEST
DTSTART:20240331T010000
END:DAYLIGHT
BEGIN:STANDARD
TZOFFSETFROM:+0200
TZOFFSETTO:+0100
TZNAME:CET
DTSTART:20241027T010000
END:STANDARD
BEGIN:DAYLIGHT
TZOFFSETFROM:+0100
TZOFFSETTO:+0200
TZNAME:CEST
DTSTART:20250330T010000
END:DAYLIGHT
BEGIN:STANDARD
TZOFFSETFROM:+0200
TZOFFSETTO:+0100
TZNAME:CET
DTSTART:20251026T010000
END:STANDARD
END:VTIMEZONE
BEGIN:VEVENT
DTSTART;TZID=Europe/Vienna:20241007T180000
DTEND;TZID=Europe/Vienna:20241007T200000
DTSTAMP:20260422T152407
CREATED:20240903T195214Z
LAST-MODIFIED:20240924T061356Z
UID:10182-1728324000-1728331200@unser-klosterneuburg.at
SUMMARY:7.10.2024 Mobil sein - fair zu Mensch und Klima
DESCRIPTION:Im Rahmen unserer Veranstaltungsreihe „Mitmachen – für unsere Stadt“ geht es am nun 1. Abend darum\, wie Mobilität in Klosterneuburg fair gestaltet werden kann. \nWir laden alle Interessierten herzlich ein und freuen uns auf spannende Vorschläge\, Wünsche\, Visionen und angeregte Diskussionen! \nMontag\, 7. Oktober 2024 von 18:00 bis 20:00 Uhr im SHIFT am Rathausplatz 8\, 3400 Klosterneuburg. \nAnschließend Erfrischungen und Snacks.
URL:https://unser-klosterneuburg.at/event/7-10-2024-mobil-sein-fair-zu-mensch-und-klima/
LOCATION:SHIFT Klosterneuburg\, Rathausplatz 8\, Klosterneuburg\, Niederösterreich\, 3400
ATTACH;FMTTYPE=image/png:https://unser-klosterneuburg.at/wp-content/uploads/2024/09/2024_09_Plakat3Veranstaltungen_korr_Malve.png
ORGANIZER;CN="PUK Plattform Unser Klosterneuburg":MAILTO:stefan.hehberger@aon.at
END:VEVENT
BEGIN:VEVENT
DTSTART;TZID=Europe/Vienna:20241014T180000
DTEND;TZID=Europe/Vienna:20241014T200000
DTSTAMP:20260422T152407
CREATED:20240903T195820Z
LAST-MODIFIED:20240924T062445Z
UID:10186-1728928800-1728936000@unser-klosterneuburg.at
SUMMARY:14.10.2024 Natur schützen - Stadt planen
DESCRIPTION:Im Rahmen unserer Veranstaltungsreihe „Mitmachen – für unsere Stadt“ geht es am 2. Abend darum\, in Klosterneuburg Naturschutz und Stadtplanung gemeinsam zu denken. \nWir laden alle Interessierten herzlich ein und freuen uns auf spannende Ideen\, Anliegen\, Beobachtungen\, Visionen\, Ziele und angeregte Diskussionen! \nMontag\, 14. Oktober 2024 von 18:00 bis 20:00 Uhr im SHIFT am Rathausplatz 8\, 3400 Klosterneuburg. \nAnschließend Open Bar und Stärkungen.
URL:https://unser-klosterneuburg.at/event/14-10-2024-natur-schuetzen-stadt-planen/
LOCATION:SHIFT Klosterneuburg\, Rathausplatz 8\, Klosterneuburg\, Niederösterreich\, 3400
ATTACH;FMTTYPE=image/png:https://unser-klosterneuburg.at/wp-content/uploads/2024/09/2024_09_Plakat3Veranstaltungen_korr_Malve.png
ORGANIZER;CN="PUK Plattform Unser Klosterneuburg":MAILTO:stefan.hehberger@aon.at
END:VEVENT
BEGIN:VEVENT
DTSTART;TZID=Europe/Vienna:20241015T170000
DTEND;TZID=Europe/Vienna:20241015T190000
DTSTAMP:20260422T152407
CREATED:20240627T055412Z
LAST-MODIFIED:20240627T055412Z
UID:10042-1729011600-1729018800@unser-klosterneuburg.at
SUMMARY:15.10.2024 PUK hört zu! Sprechstunde zu Anliegen der Mobilität mit dem Stadtrat Hehberger
DESCRIPTION:PUK hört zu! \nSprechstunde mit STR Hehberger zu Anliegen rund um die Mobilität in Klosterneuburg. \nIm SHIFT am Rathausplatz 8; 3400 Klosterneuburg von 17-19 Uhr \n0680 1111589 \n 
URL:https://unser-klosterneuburg.at/event/15-10-2024-puk-hoert-zu-sprechstunde-zu-anliegen-der-mobilitaet-mit-dem-stadtrat-hehberger/
LOCATION:SHIFT Klosterneuburg\, Rathausplatz 8\, Klosterneuburg\, Niederösterreich\, 3400
ORGANIZER;CN="PUK Plattform Unser Klosterneuburg":MAILTO:stefan.hehberger@aon.at
END:VEVENT
END:VCALENDAR