BEGIN:VCALENDAR
VERSION:2.0
PRODID:-//PUK - ECPv6.15.20//NONSGML v1.0//EN
CALSCALE:GREGORIAN
METHOD:PUBLISH
X-WR-CALNAME:PUK
X-ORIGINAL-URL:https://unser-klosterneuburg.at
X-WR-CALDESC:Veranstaltungen für PUK
REFRESH-INTERVAL;VALUE=DURATION:PT1H
X-Robots-Tag:noindex
X-PUBLISHED-TTL:PT1H
BEGIN:VTIMEZONE
TZID:Europe/Vienna
BEGIN:DAYLIGHT
TZOFFSETFROM:+0100
TZOFFSETTO:+0200
TZNAME:CEST
DTSTART:20230326T010000
END:DAYLIGHT
BEGIN:STANDARD
TZOFFSETFROM:+0200
TZOFFSETTO:+0100
TZNAME:CET
DTSTART:20231029T010000
END:STANDARD
BEGIN:DAYLIGHT
TZOFFSETFROM:+0100
TZOFFSETTO:+0200
TZNAME:CEST
DTSTART:20240331T010000
END:DAYLIGHT
BEGIN:STANDARD
TZOFFSETFROM:+0200
TZOFFSETTO:+0100
TZNAME:CET
DTSTART:20241027T010000
END:STANDARD
BEGIN:DAYLIGHT
TZOFFSETFROM:+0100
TZOFFSETTO:+0200
TZNAME:CEST
DTSTART:20250330T010000
END:DAYLIGHT
BEGIN:STANDARD
TZOFFSETFROM:+0200
TZOFFSETTO:+0100
TZNAME:CET
DTSTART:20251026T010000
END:STANDARD
END:VTIMEZONE
BEGIN:VEVENT
DTSTART;TZID=Europe/Vienna:20241209T183000
DTEND;TZID=Europe/Vienna:20241209T210000
DTSTAMP:20260424T101837
CREATED:20241208T203700Z
LAST-MODIFIED:20241208T203808Z
UID:10203-1733769000-1733778000@unser-klosterneuburg.at
SUMMARY:PUK-Jour Fixe Montag\, 9. Dezember 2024 um 18:30 im SHIFT
DESCRIPTION:Wir laden zur Diskussion akuter Punkte der Gemeinderats-Tagesordnung (u.a. Budgetdiskussion und Beschluss) am 13.12.2024\, 15 Uhr \, der Erarbeitung von Strategien und Anträgen ein und geben Updates zu übergeordneten Projekten. Wir freuen uns auf Euch! \nBeginn 18:30 Uhr im SHIFT\, Rathausplatz 8 in Klosterneuburg.  \nBitte tragt Euch für genaue Informationen und Terminankündigungen in unseren Newsletter ein. Dann bekommt Ihr alle Informationen zeitgerecht. \nGanz unten rechts beim Impressum kannst Du den Newsletter bestellen!
URL:https://unser-klosterneuburg.at/event/puk-jour-fixe-montag-9-dezember-2024-um-1830-im-shift/
LOCATION:Niederösterreich
ATTACH;FMTTYPE=image/jpeg:https://unser-klosterneuburg.at/wp-content/uploads/2024/04/Ankuendigung2.jpg
END:VEVENT
BEGIN:VEVENT
DTSTART;TZID=Europe/Vienna:20241210T170000
DTEND;TZID=Europe/Vienna:20241210T190000
DTSTAMP:20260424T101837
CREATED:20240627T055706Z
LAST-MODIFIED:20240627T055706Z
UID:10046-1733850000-1733857200@unser-klosterneuburg.at
SUMMARY:10.12.2024 PUK hört zu! Sprechstunde zu Anliegen der Mobilität mit dem Stadtrat Hehberger
DESCRIPTION:PUK hört zu! \nSprechstunde mit STR Hehberger zu Anliegen rund um die Mobilität in Klosterneuburg. \nIm SHIFT am Rathausplatz 8; 3400 Klosterneuburg von 17-19 Uhr \n0680 1111589 \n 
URL:https://unser-klosterneuburg.at/event/10-12-2024-puk-hoert-zu-sprechstunde-zu-anliegen-der-mobilitaet-mit-dem-stadtrat-hehberger/
LOCATION:SHIFT Klosterneuburg\, Rathausplatz 8\, Klosterneuburg\, Niederösterreich\, 3400
ORGANIZER;CN="PUK Plattform Unser Klosterneuburg":MAILTO:stefan.hehberger@aon.at
END:VEVENT
BEGIN:VEVENT
DTSTART;TZID=Europe/Vienna:20241213T150000
DTEND;TZID=Europe/Vienna:20241213T220000
DTSTAMP:20260424T101837
CREATED:20241208T202816Z
LAST-MODIFIED:20241208T202816Z
UID:10574-1734102000-1734127200@unser-klosterneuburg.at
SUMMARY:38. Gemeinderatssitzung (Budgetdiskussion und Beschluss) 13.12.2024\, 15 Uhr
DESCRIPTION:Die letzte Gemeinderatssitzung vor der Wahl am 26. Jänner 2025 ist öffentlich zugänglich und findet im Rathaus 2.Stock großer Sitzungssaal statt. \nFür die online Übertragung bitte den Gemeindestream verwenden: Youtube/Rathausklosterneuburg \nDie Tagesordnungspunkte des öffentlichen Teils hier zum Downloaden:\n20241213 GR\, 38 Einladung öff \n 
URL:https://unser-klosterneuburg.at/event/38-gemeinderatssitzung-budgetdiskussion-und-beschluss-13-12-2024-15-uhr/
LOCATION:Leopoldstraße 21 (alte BH Klosterneuburg)\, Leopoldstraße 21\, Klosterneuburg\, Niederösterreich\, 3400\, Österreich
END:VEVENT
BEGIN:VEVENT
DTSTART;TZID=Europe/Vienna:20241220T170000
DTEND;TZID=Europe/Vienna:20241220T210000
DTSTAMP:20260424T101837
CREATED:20241213T171020Z
LAST-MODIFIED:20241214T154407Z
UID:10617-1734714000-1734728400@unser-klosterneuburg.at
SUMMARY:Punsch der PUK - kommt vorbei
DESCRIPTION:„Punsch und / oder Putsch“ für alle\, die vor Weihnachten noch nicht genug von erwärmenden Treffen mit netten Menschen haben\, am Freitag\, 20.12.24 ab 17 Uhr im SHIFT. \nGute Laune selber mitbringen\, Kinder und Freunde auch.\nAnmeldung nicht notwendig. Putsch?  Abwarten und Punsch trinken!\nWir freuen uns auf Euch! 
URL:https://unser-klosterneuburg.at/event/punsch-der-puk-kommt-vorbei/
LOCATION:SHIFT Klosterneuburg\, Rathausplatz 8\, Klosterneuburg\, Niederösterreich\, 3400
END:VEVENT
END:VCALENDAR